Package: spicyR Version: 1.16.1 Command: F:\biocbuild\bbs-3.19-bioc\R\bin\R.exe CMD INSTALL spicyR StartedAt: 2024-06-26 16:51:49 -0400 (Wed, 26 Jun 2024) EndedAt: 2024-06-26 16:52:38 -0400 (Wed, 26 Jun 2024) EllapsedTime: 48.8 seconds RetCode: 0 Status: OK