Package: spicyR Version: 1.16.1 Command: chmod a+r spicyR -R && F:\biocbuild\bbs-3.19-bioc\R\bin\R.exe CMD build --keep-empty-dirs --no-resave-data spicyR StartedAt: 2024-06-26 22:08:55 -0400 (Wed, 26 Jun 2024) EndedAt: 2024-06-26 22:19:26 -0400 (Wed, 26 Jun 2024) EllapsedTime: 630.6 seconds RetCode: 0 Status: OK PackageFile: spicyR_1.16.1.tar.gz PackageFileSize: 2.249 MiB