Package: spicyR Version: 1.16.1 Command: rm -rf spicyR.buildbin-libdir && mkdir spicyR.buildbin-libdir && F:\biocbuild\bbs-3.19-bioc\R\bin\R.exe CMD INSTALL --build --library=spicyR.buildbin-libdir spicyR_1.16.1.tar.gz StartedAt: 2024-06-27 08:59:01 -0400 (Thu, 27 Jun 2024) EndedAt: 2024-06-27 08:59:44 -0400 (Thu, 27 Jun 2024) EllapsedTime: 43.0 seconds RetCode: 0 Status: OK PackageFile: spicyR_1.16.1.zip PackageFileSize: 2.757 MiB