Package: spicyR Version: 1.16.3 Command: rm -rf spicyR.buildbin-libdir && mkdir spicyR.buildbin-libdir && /Users/biocbuild/BBS/utils/build-universal.sh spicyR_1.16.3.tar.gz /Library/Frameworks/R.framework/Resources/bin/R spicyR.buildbin-libdir StartedAt: 2024-08-26 16:02:44 -0400 (Mon, 26 Aug 2024) EndedAt: 2024-08-26 16:04:09 -0400 (Mon, 26 Aug 2024) EllapsedTime: 85.3 seconds RetCode: 0 Status: OK PackageFile: spicyR_1.16.3.tgz PackageFileSize: 2.975 MiB