Package: sparseDOSSA Version: 1.28.0 Command: /home/biocbuild/bbs-3.19-bioc/R/bin/R CMD check --install=check:sparseDOSSA.install-out.txt --library=/home/biocbuild/bbs-3.19-bioc/R/site-library --timings sparseDOSSA_1.28.0.tar.gz StartedAt: 2024-10-17 05:21:06 -0400 (Thu, 17 Oct 2024) EndedAt: 2024-10-17 05:22:37 -0400 (Thu, 17 Oct 2024) EllapsedTime: 91.1 seconds RetCode: 1 Status: ERROR CheckDir: sparseDOSSA.Rcheck Warnings: NA