Package: sparseDOSSA Version: 1.28.0 Command: /Library/Frameworks/R.framework/Resources/bin/R CMD build --keep-empty-dirs --no-resave-data sparseDOSSA StartedAt: 2024-10-16 23:34:11 -0400 (Wed, 16 Oct 2024) EndedAt: 2024-10-16 23:36:03 -0400 (Wed, 16 Oct 2024) EllapsedTime: 112.4 seconds RetCode: 0 Status: OK PackageFile: sparseDOSSA_1.28.0.tar.gz PackageFileSize: 970.4 KiB