Package: soGGi Version: 1.36.0 Command: /home/biocbuild/R/R-beta-2024-04-15_r86425/bin/R CMD build --keep-empty-dirs --no-resave-data soGGi StartedAt: 2024-05-09 03:44:20 -0000 (Thu, 09 May 2024) EndedAt: 2024-05-09 03:46:08 -0000 (Thu, 09 May 2024) EllapsedTime: 107.1 seconds RetCode: 0 Status: OK PackageFile: soGGi_1.36.0.tar.gz PackageFileSize: 3.154 MiB