Package: snpStats Version: 1.54.0 Command: /Library/Frameworks/R.framework/Resources/bin/R CMD INSTALL snpStats StartedAt: 2024-10-16 16:26:27 -0400 (Wed, 16 Oct 2024) EndedAt: 2024-10-16 16:27:09 -0400 (Wed, 16 Oct 2024) EllapsedTime: 41.7 seconds RetCode: 0 Status: OK