Package: simplifyEnrichment Version: 1.14.1 Command: /Library/Frameworks/R.framework/Resources/bin/R CMD check --install=check:simplifyEnrichment.install-out.txt --library=/Library/Frameworks/R.framework/Resources/library --no-vignettes --timings simplifyEnrichment_1.14.1.tar.gz StartedAt: 2024-10-18 12:35:30 -0400 (Fri, 18 Oct 2024) EndedAt: 2024-10-18 12:39:37 -0400 (Fri, 18 Oct 2024) EllapsedTime: 246.3 seconds RetCode: 0 Status: OK CheckDir: simplifyEnrichment.Rcheck Warnings: 0