Package: simpleSeg Version: 1.6.1 Command: F:\biocbuild\bbs-3.19-bioc\R\bin\R.exe CMD INSTALL simpleSeg StartedAt: 2024-06-26 16:29:22 -0400 (Wed, 26 Jun 2024) EndedAt: 2024-06-26 16:30:25 -0400 (Wed, 26 Jun 2024) EllapsedTime: 63.1 seconds RetCode: 0 Status: OK