Package: simpleSeg Version: 1.6.1 Command: /Library/Frameworks/R.framework/Resources/bin/R CMD INSTALL simpleSeg StartedAt: 2024-10-16 16:15:46 -0400 (Wed, 16 Oct 2024) EndedAt: 2024-10-16 16:17:35 -0400 (Wed, 16 Oct 2024) EllapsedTime: 108.9 seconds RetCode: 0 Status: OK