Package: simpleSeg Version: 1.6.1 Command: /Library/Frameworks/R.framework/Resources/bin/R CMD INSTALL simpleSeg StartedAt: 2024-06-09 16:48:04 -0400 (Sun, 09 Jun 2024) EndedAt: 2024-06-09 16:49:06 -0400 (Sun, 09 Jun 2024) EllapsedTime: 61.8 seconds RetCode: 0 Status: OK