Package: sigsquared Version: 1.36.0 Command: /Library/Frameworks/R.framework/Resources/bin/R CMD build --keep-empty-dirs --no-resave-data sigsquared StartedAt: 2024-06-10 04:53:12 -0400 (Mon, 10 Jun 2024) EndedAt: 2024-06-10 04:53:53 -0400 (Mon, 10 Jun 2024) EllapsedTime: 41.4 seconds RetCode: 0 Status: OK PackageFile: sigsquared_1.36.0.tar.gz PackageFileSize: 440.7 KiB