Package: sigsquared Version: 1.36.0 Command: rm -rf sigsquared.buildbin-libdir && mkdir sigsquared.buildbin-libdir && /Users/biocbuild/BBS/utils/build-universal.sh sigsquared_1.36.0.tar.gz /Library/Frameworks/R.framework/Resources/bin/R sigsquared.buildbin-libdir StartedAt: 2024-10-15 20:19:25 -0400 (Tue, 15 Oct 2024) EndedAt: 2024-10-15 20:19:37 -0400 (Tue, 15 Oct 2024) EllapsedTime: 12.5 seconds RetCode: 0 Status: OK PackageFile: sigsquared_1.36.0.tgz PackageFileSize: 421.9 KiB