Package: shiny.gosling Version: 1.0.2 Command: F:\biocbuild\bbs-3.19-bioc\R\bin\R.exe CMD check --no-multiarch --install=check:shiny.gosling.install-out.txt --library=F:\biocbuild\bbs-3.19-bioc\R\library --no-vignettes --timings shiny.gosling_1.0.2.tar.gz StartedAt: 2024-06-27 06:09:12 -0400 (Thu, 27 Jun 2024) EndedAt: 2024-06-27 06:09:16 -0400 (Thu, 27 Jun 2024) EllapsedTime: 4.8 seconds RetCode: 1 Status: ERROR CheckDir: shiny.gosling.Rcheck Warnings: NA