Package: shiny.gosling Version: 1.0.2 Command: /Library/Frameworks/R.framework/Resources/bin/R CMD build --keep-empty-dirs --no-resave-data shiny.gosling StartedAt: 2024-06-10 04:49:26 -0400 (Mon, 10 Jun 2024) EndedAt: 2024-06-10 04:50:19 -0400 (Mon, 10 Jun 2024) EllapsedTime: 52.8 seconds RetCode: 0 Status: OK PackageFile: shiny.gosling_1.0.2.tar.gz PackageFileSize: 1.745 MiB