Package: shiny.gosling Version: 1.0.2 Command: rm -rf shiny.gosling.buildbin-libdir && mkdir shiny.gosling.buildbin-libdir && /Users/biocbuild/BBS/utils/build-universal.sh shiny.gosling_1.0.2.tar.gz /Library/Frameworks/R.framework/Resources/bin/R shiny.gosling.buildbin-libdir StartedAt: 2024-06-11 13:14:18 -0400 (Tue, 11 Jun 2024) EndedAt: 2024-06-11 13:14:28 -0400 (Tue, 11 Jun 2024) EllapsedTime: 9.8 seconds RetCode: 0 Status: OK PackageFile: shiny.gosling_1.0.2.tgz PackageFileSize: 1.111 MiB