Package: sevenbridges Version: 1.34.0 Command: rm -rf sevenbridges.buildbin-libdir && mkdir sevenbridges.buildbin-libdir && /Users/biocbuild/BBS/utils/build-universal.sh sevenbridges_1.34.0.tar.gz /Library/Frameworks/R.framework/Resources/bin/R sevenbridges.buildbin-libdir StartedAt: 2024-06-11 13:13:59 -0400 (Tue, 11 Jun 2024) EndedAt: 2024-06-11 13:14:51 -0400 (Tue, 11 Jun 2024) EllapsedTime: 52.3 seconds RetCode: 0 Status: OK PackageFile: sevenbridges_1.34.0.tgz PackageFileSize: 5.926 MiB