Package: seqsetvis Version: 1.24.0 Command: /home/biocbuild/bbs-3.19-bioc/R/bin/R CMD build --keep-empty-dirs --no-resave-data seqsetvis StartedAt: 2024-10-16 20:48:49 -0400 (Wed, 16 Oct 2024) EndedAt: 2024-10-16 20:50:08 -0400 (Wed, 16 Oct 2024) EllapsedTime: 79.2 seconds RetCode: 0 Status: OK PackageFile: seqsetvis_1.24.0.tar.gz PackageFileSize: 3.174 MiB