Package: scruff Version: 1.22.0 Command: /Library/Frameworks/R.framework/Resources/bin/R CMD check --install=check:scruff.install-out.txt --library=/Library/Frameworks/R.framework/Resources/library --no-vignettes --timings scruff_1.22.0.tar.gz StartedAt: 2024-10-18 11:43:34 -0400 (Fri, 18 Oct 2024) EndedAt: 2024-10-18 11:53:14 -0400 (Fri, 18 Oct 2024) EllapsedTime: 580.6 seconds RetCode: 0 Status: OK CheckDir: scruff.Rcheck Warnings: 0