Package: screenCounter Version: 1.4.0 Command: /Library/Frameworks/R.framework/Resources/bin/R CMD build --keep-empty-dirs --no-resave-data screenCounter StartedAt: 2024-06-09 18:06:46 -0400 (Sun, 09 Jun 2024) EndedAt: 2024-06-09 18:08:58 -0400 (Sun, 09 Jun 2024) EllapsedTime: 131.4 seconds RetCode: 0 Status: OK PackageFile: screenCounter_1.4.0.tar.gz PackageFileSize: 292.9 KiB