Package: screenCounter Version: 1.4.0 Command: rm -rf screenCounter.buildbin-libdir && mkdir screenCounter.buildbin-libdir && /Users/biocbuild/BBS/utils/build-universal.sh screenCounter_1.4.0.tar.gz /Library/Frameworks/R.framework/Resources/bin/R screenCounter.buildbin-libdir StartedAt: 2024-06-11 13:08:54 -0400 (Tue, 11 Jun 2024) EndedAt: 2024-06-11 13:11:33 -0400 (Tue, 11 Jun 2024) EllapsedTime: 159.3 seconds RetCode: 0 Status: OK PackageFile: screenCounter_1.4.0.tgz PackageFileSize: 525.1 KiB