Package: scoreInvHap Version: 1.26.0 Command: rm -rf scoreInvHap.buildbin-libdir && mkdir scoreInvHap.buildbin-libdir && /Users/biocbuild/BBS/utils/build-universal.sh scoreInvHap_1.26.0.tar.gz /Library/Frameworks/R.framework/Resources/bin/R scoreInvHap.buildbin-libdir StartedAt: 2024-10-17 17:08:32 -0400 (Thu, 17 Oct 2024) EndedAt: 2024-10-17 17:10:12 -0400 (Thu, 17 Oct 2024) EllapsedTime: 100.0 seconds RetCode: 0 Status: OK PackageFile: scoreInvHap_1.26.0.tgz PackageFileSize: 1.531 MiB