Package: scone Version: 1.28.0 Command: /home/biocbuild/bbs-3.19-bioc/R/bin/R CMD check --install=check:scone.install-out.txt --library=/home/biocbuild/bbs-3.19-bioc/R/site-library --timings scone_1.28.0.tar.gz StartedAt: 2024-10-17 04:53:05 -0400 (Thu, 17 Oct 2024) EndedAt: 2024-10-17 05:04:19 -0400 (Thu, 17 Oct 2024) EllapsedTime: 673.4 seconds RetCode: 0 Status: OK CheckDir: scone.Rcheck Warnings: 0