Package: scone Version: 1.28.0 Command: rm -rf scone.buildbin-libdir && mkdir scone.buildbin-libdir && /Users/biocbuild/BBS/utils/build-universal.sh scone_1.28.0.tar.gz /Library/Frameworks/R.framework/Resources/bin/R scone.buildbin-libdir StartedAt: 2024-06-10 00:38:33 -0400 (Mon, 10 Jun 2024) EndedAt: 2024-06-10 00:39:45 -0400 (Mon, 10 Jun 2024) EllapsedTime: 72.0 seconds RetCode: 0 Status: OK PackageFile: scone_1.28.0.tgz PackageFileSize: 2.074 MiB