Package: scone Version: 1.28.0 Command: /home/biocbuild/R/R-beta-2024-04-15_r86425/bin/R CMD check --install=check:scone.install-out.txt --library=/home/biocbuild/R/R-beta-2024-04-15_r86425/site-library --no-vignettes --timings scone_1.28.0.tar.gz StartedAt: 2024-05-09 11:43:25 -0000 (Thu, 09 May 2024) EndedAt: 2024-05-09 11:55:45 -0000 (Thu, 09 May 2024) EllapsedTime: 740.2 seconds RetCode: 0 Status: OK CheckDir: scone.Rcheck Warnings: 0