Package: scone Version: 1.28.0 Command: /Library/Frameworks/R.framework/Resources/bin/R CMD INSTALL scone StartedAt: 2024-06-09 16:50:14 -0400 (Sun, 09 Jun 2024) EndedAt: 2024-06-09 16:51:31 -0400 (Sun, 09 Jun 2024) EllapsedTime: 77.8 seconds RetCode: 0 Status: OK