Package: scone Version: 1.28.0 Command: rm -rf scone.buildbin-libdir && mkdir scone.buildbin-libdir && /Users/biocbuild/BBS/utils/build-universal.sh scone_1.28.0.tar.gz /Library/Frameworks/R.framework/Resources/bin/R scone.buildbin-libdir StartedAt: 2024-10-15 20:11:11 -0400 (Tue, 15 Oct 2024) EndedAt: 2024-10-15 20:12:27 -0400 (Tue, 15 Oct 2024) EllapsedTime: 75.2 seconds RetCode: 0 Status: OK PackageFile: scone_1.28.0.tgz PackageFileSize: 2.083 MiB