Package: scone Version: 1.28.0 Maintainer: Davide Risso MaintainerEmail: risso.davide at gmail.com git_url: https://git.bioconductor.org/packages/scone git_branch: RELEASE_3_19 git_last_commit: 298a397 git_last_commit_date: 2024-04-30 10:55:37 -0400 (Tue, 30 Apr 2024)