Package: scmap Version: 1.26.0 Command: chmod a+r scmap -R && F:\biocbuild\bbs-3.19-bioc\R\bin\R.exe CMD build --keep-empty-dirs --no-resave-data scmap StartedAt: 2024-06-26 21:45:43 -0400 (Wed, 26 Jun 2024) EndedAt: 2024-06-26 21:46:55 -0400 (Wed, 26 Jun 2024) EllapsedTime: 71.7 seconds RetCode: 0 Status: OK PackageFile: scmap_1.26.0.tar.gz PackageFileSize: 1.958 MiB