Package: scds Version: 1.20.0 Command: chmod a+r scds -R && E:\biocbuild\bbs-3.19-bioc\R\bin\R.exe CMD build --keep-empty-dirs --no-resave-data scds StartedAt: 2024-10-16 21:44:51 -0400 (Wed, 16 Oct 2024) EndedAt: 2024-10-16 21:46:23 -0400 (Wed, 16 Oct 2024) EllapsedTime: 92.6 seconds RetCode: 0 Status: OK PackageFile: scds_1.20.0.tar.gz PackageFileSize: 1.068 MiB