Package: scds Version: 1.20.0 Command: /Library/Frameworks/R.framework/Resources/bin/R CMD check --install=check:scds.install-out.txt --library=/Library/Frameworks/R.framework/Resources/library --no-vignettes --timings scds_1.20.0.tar.gz StartedAt: 2024-10-18 11:13:07 -0400 (Fri, 18 Oct 2024) EndedAt: 2024-10-18 11:17:07 -0400 (Fri, 18 Oct 2024) EllapsedTime: 240.4 seconds RetCode: 0 Status: OK CheckDir: scds.Rcheck Warnings: 0