Package: scanMiR Version: 1.10.0 Command: chmod a+r scanMiR -R && F:\biocbuild\bbs-3.19-bioc\R\bin\R.exe CMD build --keep-empty-dirs --no-resave-data scanMiR StartedAt: 2024-06-26 21:38:27 -0400 (Wed, 26 Jun 2024) EndedAt: 2024-06-26 21:39:01 -0400 (Wed, 26 Jun 2024) EllapsedTime: 34.0 seconds RetCode: 0 Status: OK PackageFile: scanMiR_1.10.0.tar.gz PackageFileSize: 1.014 MiB