Package: scShapes Version: 1.10.0 Command: chmod a+r scShapes -R && F:\biocbuild\bbs-3.19-bioc\R\bin\R.exe CMD build --keep-empty-dirs --no-resave-data scShapes StartedAt: 2024-06-26 21:50:25 -0400 (Wed, 26 Jun 2024) EndedAt: 2024-06-26 21:52:20 -0400 (Wed, 26 Jun 2024) EllapsedTime: 114.8 seconds RetCode: 0 Status: OK PackageFile: scShapes_1.10.0.tar.gz PackageFileSize: 30.05 KiB