Package: scShapes Version: 1.10.0 Command: /Library/Frameworks/R.framework/Resources/bin/R CMD build --keep-empty-dirs --no-resave-data scShapes StartedAt: 2024-06-09 18:07:44 -0400 (Sun, 09 Jun 2024) EndedAt: 2024-06-09 18:09:42 -0400 (Sun, 09 Jun 2024) EllapsedTime: 117.4 seconds RetCode: 0 Status: OK PackageFile: scShapes_1.10.0.tar.gz PackageFileSize: 29.91 KiB