Package: scShapes Version: 1.10.0 Command: /home/biocbuild/R/R-beta-2024-04-15_r86425/bin/R CMD check --install=check:scShapes.install-out.txt --library=/home/biocbuild/R/R-beta-2024-04-15_r86425/site-library --no-vignettes --timings scShapes_1.10.0.tar.gz StartedAt: 2024-05-09 11:47:29 -0000 (Thu, 09 May 2024) EndedAt: 2024-05-09 11:50:48 -0000 (Thu, 09 May 2024) EllapsedTime: 199.3 seconds RetCode: 0 Status: OK CheckDir: scShapes.Rcheck Warnings: 0