Package: scMitoMut Version: 1.0.0 Command: /home/biocbuild/R/R-beta-2024-04-15_r86425/bin/R CMD check --install=check:scMitoMut.install-out.txt --library=/home/biocbuild/R/R-beta-2024-04-15_r86425/site-library --no-vignettes --timings scMitoMut_1.0.0.tar.gz StartedAt: 2024-05-09 11:42:58 -0000 (Thu, 09 May 2024) EndedAt: 2024-05-09 11:44:18 -0000 (Thu, 09 May 2024) EllapsedTime: 80.1 seconds RetCode: 0 Status: WARNINGS CheckDir: scMitoMut.Rcheck Warnings: 3