Package: scDblFinder Version: 1.18.0 Command: /Library/Frameworks/R.framework/Resources/bin/R CMD build --keep-empty-dirs --no-resave-data scDblFinder StartedAt: 2024-10-17 08:30:05 -0400 (Thu, 17 Oct 2024) EndedAt: 2024-10-17 08:32:21 -0400 (Thu, 17 Oct 2024) EllapsedTime: 136.2 seconds RetCode: 1 Status: ERROR PackageFile: None PackageFileSize: NA