Package: sarks Version: 1.16.0 Command: rm -rf sarks.buildbin-libdir && mkdir sarks.buildbin-libdir && E:\biocbuild\bbs-3.19-bioc\R\bin\R.exe CMD INSTALL --build --library=sarks.buildbin-libdir sarks_1.16.0.tar.gz StartedAt: 2024-10-17 08:33:43 -0400 (Thu, 17 Oct 2024) EndedAt: 2024-10-17 08:34:06 -0400 (Thu, 17 Oct 2024) EllapsedTime: 22.9 seconds RetCode: 0 Status: OK PackageFile: sarks_1.16.0.zip PackageFileSize: 492.4 KiB