Package: sangerseqR Version: 1.40.0 Command: /Library/Frameworks/R.framework/Resources/bin/R CMD INSTALL sangerseqR StartedAt: 2024-06-09 15:20:57 -0400 (Sun, 09 Jun 2024) EndedAt: 2024-06-09 15:21:17 -0400 (Sun, 09 Jun 2024) EllapsedTime: 19.8 seconds RetCode: 0 Status: OK