Package: sangerseqR Version: 1.40.0 Command: /Library/Frameworks/R.framework/Resources/bin/R CMD check --install=check:sangerseqR.install-out.txt --library=/Library/Frameworks/R.framework/Resources/library --no-vignettes --timings sangerseqR_1.40.0.tar.gz StartedAt: 2024-10-18 10:44:33 -0400 (Fri, 18 Oct 2024) EndedAt: 2024-10-18 10:46:56 -0400 (Fri, 18 Oct 2024) EllapsedTime: 142.9 seconds RetCode: 0 Status: OK CheckDir: sangerseqR.Rcheck Warnings: 0