Package: sangerseqR Version: 1.40.0 Command: rm -rf sangerseqR.buildbin-libdir && mkdir sangerseqR.buildbin-libdir && /Users/biocbuild/BBS/utils/build-universal.sh sangerseqR_1.40.0.tar.gz /Library/Frameworks/R.framework/Resources/bin/R sangerseqR.buildbin-libdir StartedAt: 2024-10-15 20:04:37 -0400 (Tue, 15 Oct 2024) EndedAt: 2024-10-15 20:04:59 -0400 (Tue, 15 Oct 2024) EllapsedTime: 21.5 seconds RetCode: 0 Status: OK PackageFile: sangerseqR_1.40.0.tgz PackageFileSize: 3.156 MiB