Package: rtracklayer Version: 1.64.0 Command: chmod a+r rtracklayer -R && F:\biocbuild\bbs-3.19-bioc\R\bin\R.exe CMD build --keep-empty-dirs --no-resave-data rtracklayer StartedAt: 2024-06-26 21:34:19 -0400 (Wed, 26 Jun 2024) EndedAt: 2024-06-26 21:38:25 -0400 (Wed, 26 Jun 2024) EllapsedTime: 246.0 seconds RetCode: 0 Status: OK PackageFile: rtracklayer_1.64.0.tar.gz PackageFileSize: 3.772 MiB