Package: rtracklayer Version: 1.64.0 Command: rm -rf rtracklayer.buildbin-libdir && mkdir rtracklayer.buildbin-libdir && F:\biocbuild\bbs-3.19-bioc\R\bin\R.exe CMD INSTALL --build --library=rtracklayer.buildbin-libdir rtracklayer_1.64.0.tar.gz StartedAt: 2024-06-27 08:50:29 -0400 (Thu, 27 Jun 2024) EndedAt: 2024-06-27 08:52:51 -0400 (Thu, 27 Jun 2024) EllapsedTime: 141.5 seconds RetCode: 0 Status: OK PackageFile: rtracklayer_1.64.0.zip PackageFileSize: 9.2 MiB