Package: rqt Version: 1.30.0 Command: /Library/Frameworks/R.framework/Resources/bin/R CMD INSTALL rqt StartedAt: 2024-10-16 16:37:16 -0400 (Wed, 16 Oct 2024) EndedAt: 2024-10-16 16:38:20 -0400 (Wed, 16 Oct 2024) EllapsedTime: 63.8 seconds RetCode: 0 Status: OK