Package: rqt Version: 1.29.0 Command: /home/biocbuild/R/R-4.4-devel-2024.03.20/bin/R CMD check --install=check:rqt.install-out.txt --library=/home/biocbuild/R/R-4.4-devel-2024.03.20/site-library --no-vignettes --timings rqt_1.29.0.tar.gz StartedAt: 2024-04-06 11:57:50 -0000 (Sat, 06 Apr 2024) EndedAt: 2024-04-06 12:01:36 -0000 (Sat, 06 Apr 2024) EllapsedTime: 225.4 seconds RetCode: 0 Status: OK CheckDir: rqt.Rcheck Warnings: 0