Package: rqt Version: 1.30.0 Maintainer: Ilya Y. Zhbannikov MaintainerEmail: ilya.zhbannikov at duke.edu git_url: https://git.bioconductor.org/packages/rqt git_branch: RELEASE_3_19 git_last_commit: 4c017d7 git_last_commit_date: 2024-04-30 10:56:39 -0400 (Tue, 30 Apr 2024)