Package: rprimer Version: 1.8.0 Command: /Library/Frameworks/R.framework/Resources/bin/R CMD build --keep-empty-dirs --no-resave-data rprimer StartedAt: 2024-10-16 22:44:56 -0400 (Wed, 16 Oct 2024) EndedAt: 2024-10-16 22:47:46 -0400 (Wed, 16 Oct 2024) EllapsedTime: 169.3 seconds RetCode: 0 Status: OK PackageFile: rprimer_1.8.0.tar.gz PackageFileSize: 3.207 MiB