Package: ropls Version: 1.36.0 Command: E:\biocbuild\bbs-3.19-bioc\R\bin\R.exe CMD check --no-multiarch --install=check:ropls.install-out.txt --library=E:\biocbuild\bbs-3.19-bioc\R\library --no-vignettes --timings ropls_1.36.0.tar.gz StartedAt: 2024-10-17 05:12:56 -0400 (Thu, 17 Oct 2024) EndedAt: 2024-10-17 05:17:20 -0400 (Thu, 17 Oct 2024) EllapsedTime: 264.3 seconds RetCode: 0 Status: OK CheckDir: ropls.Rcheck Warnings: 0