Package: rifiComparative Version: 1.4.0 Command: /Library/Frameworks/R.framework/Resources/bin/R CMD check --install=check:rifiComparative.install-out.txt --library=/Library/Frameworks/R.framework/Resources/library --no-vignettes --timings rifiComparative_1.4.0.tar.gz StartedAt: 2024-06-11 03:13:45 -0400 (Tue, 11 Jun 2024) EndedAt: 2024-06-11 03:32:32 -0400 (Tue, 11 Jun 2024) EllapsedTime: 1126.9 seconds RetCode: 0 Status: OK CheckDir: rifiComparative.Rcheck Warnings: 0